BEGIN:VCALENDAR
VERSION:2.0
PRODID:-//Home - ECPv6.15.16//NONSGML v1.0//EN
CALSCALE:GREGORIAN
METHOD:PUBLISH
X-ORIGINAL-URL:https://industriaaldia.com
X-WR-CALDESC:Eventos para Home
REFRESH-INTERVAL;VALUE=DURATION:PT1H
X-Robots-Tag:noindex
X-PUBLISHED-TTL:PT1H
BEGIN:VTIMEZONE
TZID:America/New_York
BEGIN:DAYLIGHT
TZOFFSETFROM:-0500
TZOFFSETTO:-0400
TZNAME:EDT
DTSTART:20240310T070000
END:DAYLIGHT
BEGIN:STANDARD
TZOFFSETFROM:-0400
TZOFFSETTO:-0500
TZNAME:EST
DTSTART:20241103T060000
END:STANDARD
BEGIN:DAYLIGHT
TZOFFSETFROM:-0500
TZOFFSETTO:-0400
TZNAME:EDT
DTSTART:20250309T070000
END:DAYLIGHT
BEGIN:STANDARD
TZOFFSETFROM:-0400
TZOFFSETTO:-0500
TZNAME:EST
DTSTART:20251102T060000
END:STANDARD
BEGIN:DAYLIGHT
TZOFFSETFROM:-0500
TZOFFSETTO:-0400
TZNAME:EDT
DTSTART:20260308T070000
END:DAYLIGHT
BEGIN:STANDARD
TZOFFSETFROM:-0400
TZOFFSETTO:-0500
TZNAME:EST
DTSTART:20261101T060000
END:STANDARD
END:VTIMEZONE
BEGIN:VEVENT
DTSTART;TZID=America/New_York:20250522T080000
DTEND;TZID=America/New_York:20250524T170000
DTSTAMP:20260423T120947
CREATED:20231001T141122Z
LAST-MODIFIED:20250525T000116Z
UID:9604-1747900800-1748106000@industriaaldia.com
SUMMARY:MAQ-EMIN 2025
DESCRIPTION:Ruta al XVI CONAMIN Congreso Nacional de Minería \n✅Si eres parte del sector minero o deseas incursionar en él\, no puedes perderte MAQEMIN2025🚜🇵🇪. Descubre las últimas soluciones tecnológicas y estrategias innovadoras que están transformando la industria. Este evento será el punto de encuentro perfecto para conectar con líderes del sector 🤝 y aprender de los expertos en minería. \nExpande y fortalece tu red de contactos a nivel nacional durante tres días\, del 📅 22 al 24 de mayo en la Universidad Nacional Mayor de San Marcos.\nAv. Óscar R. Benavides (ex Colonial) – Puerta 8 – Lima \n¡No dejes pasar esta oportunidad de crecimiento y expansión con la Minería Internacional! 🌍 \n🔗Inscríbete ahora y confirma tu asistencia:\nhttps://maq-emin.cdlima.org.pe/?page_id=36
URL:https://industriaaldia.com/event/maq-emin-2025/
LOCATION:Universidad Nacional Mayor de San Marcos – UNMSM\, Av. Carlos Germán Amezaga 375 Lima\, Lima\, Lima\, 15081\, Peru
CATEGORIES:Feria
ATTACH;FMTTYPE=image/jpeg:https://industriaaldia.com/wp-content/uploads/2025/03/maqemin2025.jpeg
END:VEVENT
END:VCALENDAR